Workbook

Sheet Accueil
B2: JRM.AI / MES DÉPENSES EN UN COUP D’ŒIL
B3: 2026 · EUR | DÉMONSTRATION — 16 dépenses entièrement fictives
B4: Typologie | C4: Toutes les catégories | G4: Trier par | H4: Montant décroissant
B6: TTC COLLECTÉ | D6: CONTRÔLÉ | F6: À VÉRIFIER | H6: TVA FACTURÉE | J6: PIÈCES À VÉRIFIER
B7: ='Données accueil'!N2 -> 1472.5 | D7: ='Données accueil'!O2 -> 1100 | F7: ='Données accueil'!P2 -> 372.5 | H7: ='Données accueil'!Q2 -> 172.5 | J7: ='Données accueil'!R2 -> 4
B22: DÉTAIL PAR TYPOLOGIE · le filtre et le tri s’appliquent aux graphiques et au tableau
B23: TYPE DE FRAIS | D23: Mars 2026 | F23: Août 2026 | H23: Septembre 2026 | J23: Octobre 2026 | L23: CUMUL 2026
B24: =IF('Données accueil'!$A15="","",'Données accueil'!A15) -> Hébergement | D24: =IF('Données accueil'!$A15="","",'Données accueil'!B15) -> 0 | F24: =IF('Données accueil'!$A15="","",'Données accueil'!C15) -> 198 | H24: =IF('Données accueil'!$A15="","",'Données accueil'!D15) -> 275 | J24: =IF('Données accueil'!$A15="","",'Données accueil'!E15) -> 0 | L24: =IF('Données accueil'!$A15="","",'Données accueil'!F15) -> 473
B25: =IF('Données accueil'!$A16="","",'Données accueil'!A16) -> Restauration | D25: =IF('Données accueil'!$A16="","",'Données accueil'!B16) -> 49.5 | F25: =IF('Données accueil'!$A16="","",'Données accueil'!C16) -> 77 | H25: =IF('Données accueil'!$A16="","",'Données accueil'!D16) -> 99 | J25: =IF('Données accueil'!$A16="","",'Données accueil'!E16) -> 66 | L25: =IF('Données accueil'!$A16="","",'Données accueil'!F16) -> 291.5
B26: =IF('Données accueil'!$A17="","",'Données accueil'!A17) -> Fournitures | D26: =IF('Données accueil'!$A17="","",'Données accueil'!B17) -> 96 | F26: =IF('Données accueil'!$A17="","",'Données accueil'!C17) -> 0 | H26: =IF('Données accueil'!$A17="","",'Données accueil'!D17) -> 180 | J26: =IF('Données accueil'!$A17="","",'Données accueil'!E17) -> 0 | L26: =IF('Données accueil'!$A17="","",'Données accueil'!F17) -> 276
B27: =IF('Données accueil'!$A18="","",'Données accueil'!A18) -> Transport | D27: =IF('Données accueil'!$A18="","",'Données accueil'!B18) -> 66 | F27: =IF('Données accueil'!$A18="","",'Données accueil'!C18) -> 0 | H27: =IF('Données accueil'!$A18="","",'Données accueil'!D18) -> 0 | J27: =IF('Données accueil'!$A18="","",'Données accueil'!E18) -> 132 | L27: =IF('Données accueil'!$A18="","",'Données accueil'!F18) -> 198
B28: =IF('Données accueil'!$A19="","",'Données accueil'!A19) -> Logiciels | D28: =IF('Données accueil'!$A19="","",'Données accueil'!B19) -> 36 | F28: =IF('Données accueil'!$A19="","",'Données accueil'!C19) -> 36 | H28: =IF('Données accueil'!$A19="","",'Données accueil'!D19) -> 0 | J28: =IF('Données accueil'!$A19="","",'Données accueil'!E19) -> 36 | L28: =IF('Données accueil'!$A19="","",'Données accueil'!F19) -> 108
B29: =IF('Données accueil'!$A20="","",'Données accueil'!A20) -> Carburant | D29: =IF('Données accueil'!$A20="","",'Données accueil'!B20) -> 0 | F29: =IF('Données accueil'!$A20="","",'Données accueil'!C20) -> 60 | H29: =IF('Données accueil'!$A20="","",'Données accueil'!D20) -> 0 | J29: =IF('Données accueil'!$A20="","",'Données accueil'!E20) -> 0 | L29: =IF('Données accueil'!$A20="","",'Données accueil'!F20) -> 60
B30: =IF('Données accueil'!$A21="","",'Données accueil'!A21) -> Télécommunications | D30: =IF('Données accueil'!$A21="","",'Données accueil'!B21) -> 0 | F30: =IF('Données accueil'!$A21="","",'Données accueil'!C21) -> 0 | H30: =IF('Données accueil'!$A21="","",'Données accueil'!D21) -> 48 | J30: =IF('Données accueil'!$A21="","",'Données accueil'!E21) -> 0 | L30: =IF('Données accueil'!$A21="","",'Données accueil'!F21) -> 48
B31: =IF('Données accueil'!$A22="","",'Données accueil'!A22) -> Stationnement | D31: =IF('Données accueil'!$A22="","",'Données accueil'!B22) -> 0 | F31: =IF('Données accueil'!$A22="","",'Données accueil'!C22) -> 0 | H31: =IF('Données accueil'!$A22="","",'Données accueil'!D22) -> 0 | J31: =IF('Données accueil'!$A22="","",'Données accueil'!E22) -> 18 | L31: =IF('Données accueil'!$A22="","",'Données accueil'!F22) -> 18
B32: =IF('Données accueil'!$A23="","",'Données accueil'!A23) -> Péage | D32: =IF('Données accueil'!$A23="","",'Données accueil'!B23) -> 0 | F32: =IF('Données accueil'!$A23="","",'Données accueil'!C23) -> 0 | H32: =IF('Données accueil'!$A23="","",'Données accueil'!D23) -> 0 | J32: =IF('Données accueil'!$A23="","",'Données accueil'!E23) -> 0 | L32: =IF('Données accueil'!$A23="","",'Données accueil'!F23) -> 0
B33: =IF('Données accueil'!$A24="","",'Données accueil'!A24) -> Autres | D33: =IF('Données accueil'!$A24="","",'Données accueil'!B24) -> 0 | F33: =IF('Données accueil'!$A24="","",'Données accueil'!C24) -> 0 | H33: =IF('Données accueil'!$A24="","",'Données accueil'!D24) -> 0 | J33: =IF('Données accueil'!$A24="","",'Données accueil'!E24) -> 0 | L33: =IF('Données accueil'!$A24="","",'Données accueil'!F24) -> 0
B34: TOTAL TTC | D34: ='Données accueil'!I2 -> 247.5 | F34: ='Données accueil'!I3 -> 371 | H34: ='Données accueil'!I4 -> 602 | J34: ='Données accueil'!I5 -> 252 | L34: ='Données accueil'!N2 -> 1472.5
B36: ="Pièces sans montant TTC dans la sélection : "&'Données accueil'!S2&" · Doublons exclus." -> Pièces sans montant TTC dans la sélection : 0 · Doublons exclus.
B37: Exemple fictif · TVA récupérable à valider séparément avec le cabinet.

Sheet Mars 2026
B2: Mars 2026 | D2: JRM.AI / JOURNAL DES FRAIS
B4: DÉMONSTRATION · 2026 | D4: 4 dépenses fictives · TVA récupérable à valider séparément
B6: Exemple fictif · catégorie préremplie et modifiable
B8: Date | C8: Fournisseur | D8: Catégorie | E8: HT | F8: TVA relevée | G8: TTC | H8: Devise | I8: Payeur | J8: Statut | K8: Justificatif | L8: Motif / commentaire | M8: Identifiant | N8: TVA récupérable | O8: Décision TVA | P8: N° facture | Q8: Collaborateur | R8: Source | S8: Pages | T8: À compléter | U8: Validation comptable | V8: Commentaire comptable | W8: Correction manuelle | X8: Débours non soumis
B9: 46083 | C9: Papeterie Atlas | D9: Fournitures | E9: 80 | F9: 16 | G9: 96 | H9: EUR | I9: Entreprise démo | J9: Contrôlé | K9: Exemple sans pièce jointe | L9: Déplacement professionnel — exemple | M9: DEMO-001 | O9: À valider | P9: DEMO-001 | Q9: Camille | R9: Démonstration | S9: 1 | X9: 0
B10: 46085 | C10: Bistro des Halles | D10: Restauration | E10: 45 | F10: 4.5 | G10: 49.5 | H10: EUR | I10: Entreprise démo | J10: À vérifier | K10: Exemple sans pièce jointe | L10: Déplacement professionnel — exemple | M10: DEMO-002 | O10: À valider | P10: DEMO-002 | Q10: Camille | R10: Démonstration | S10: 1 | T10: Motif à compléter | X10: 0
B11: 46087 | C11: Studio Nuage | D11: Logiciels | E11: 30 | F11: 6 | G11: 36 | H11: EUR | I11: Entreprise démo | J11: Contrôlé | K11: Exemple sans pièce jointe | L11: Déplacement professionnel — exemple | M11: DEMO-003 | O11: À valider | P11: DEMO-003 | Q11: Camille | R11: Démonstration | S11: 1 | X11: 0
B12: 46089 | C12: Rail Horizon | D12: Transport | E12: 60 | F12: 6 | G12: 66 | H12: EUR | I12: Entreprise démo | J12: Contrôlé | K12: Exemple sans pièce jointe | L12: Déplacement professionnel — exemple | M12: DEMO-004 | O12: À valider | P12: DEMO-004 | Q12: Camille | R12: Démonstration | S12: 1 | X12: 0

Sheet Août 2026
B2: Août 2026 | D2: JRM.AI / JOURNAL DES FRAIS
B4: DÉMONSTRATION · 2026 | D4: 4 dépenses fictives · TVA récupérable à valider séparément
B6: Exemple fictif · catégorie préremplie et modifiable
B8: Date | C8: Fournisseur | D8: Catégorie | E8: HT | F8: TVA relevée | G8: TTC | H8: Devise | I8: Payeur | J8: Statut | K8: Justificatif | L8: Motif / commentaire | M8: Identifiant | N8: TVA récupérable | O8: Décision TVA | P8: N° facture | Q8: Collaborateur | R8: Source | S8: Pages | T8: À compléter | U8: Validation comptable | V8: Commentaire comptable | W8: Correction manuelle | X8: Débours non soumis
B9: 46236 | C9: Hôtel des Pins | D9: Hébergement | E9: 180 | F9: 18 | G9: 198 | H9: EUR | I9: Entreprise démo | J9: Contrôlé | K9: Exemple sans pièce jointe | L9: Déplacement professionnel — exemple | M9: DEMO-005 | O9: À valider | P9: DEMO-005 | Q9: Camille | R9: Démonstration | S9: 1 | X9: 0
B10: 46238 | C10: Bistro des Halles | D10: Restauration | E10: 70 | F10: 7 | G10: 77 | H10: EUR | I10: Entreprise démo | J10: À vérifier | K10: Exemple sans pièce jointe | L10: Déplacement professionnel — exemple | M10: DEMO-006 | O10: À valider | P10: DEMO-006 | Q10: Camille | R10: Démonstration | S10: 1 | T10: Motif à compléter | X10: 0
B11: 46240 | C11: Station Horizon | D11: Carburant | E11: 50 | F11: 10 | G11: 60 | H11: EUR | I11: Entreprise démo | J11: Contrôlé | K11: Exemple sans pièce jointe | L11: Déplacement professionnel — exemple | M11: DEMO-007 | O11: À valider | P11: DEMO-007 | Q11: Camille | R11: Démonstration | S11: 1 | X11: 0
B12: 46242 | C12: Studio Nuage | D12: Logiciels | E12: 30 | F12: 6 | G12: 36 | H12: EUR | I12: Entreprise démo | J12: Contrôlé | K12: Exemple sans pièce jointe | L12: Déplacement professionnel — exemple | M12: DEMO-008 | O12: À valider | P12: DEMO-008 | Q12: Camille | R12: Démonstration | S12: 1 | X12: 0

Sheet Septembre 2026
B2: Septembre 2026 | D2: JRM.AI / JOURNAL DES FRAIS
B4: DÉMONSTRATION · 2026 | D4: 4 dépenses fictives · TVA récupérable à valider séparément
B6: Exemple fictif · catégorie préremplie et modifiable
B8: Date | C8: Fournisseur | D8: Catégorie | E8: HT | F8: TVA relevée | G8: TTC | H8: Devise | I8: Payeur | J8: Statut | K8: Justificatif | L8: Motif / commentaire | M8: Identifiant | N8: TVA récupérable | O8: Décision TVA | P8: N° facture | Q8: Collaborateur | R8: Source | S8: Pages | T8: À compléter | U8: Validation comptable | V8: Commentaire comptable | W8: Correction manuelle | X8: Débours non soumis
B9: 46267 | C9: Hôtel des Pins | D9: Hébergement | E9: 250 | F9: 25 | G9: 275 | H9: EUR | I9: Entreprise démo | J9: Contrôlé | K9: Exemple sans pièce jointe | L9: Déplacement professionnel — exemple | M9: DEMO-009 | O9: À valider | P9: DEMO-009 | Q9: Camille | R9: Démonstration | S9: 1 | X9: 0
B10: 46269 | C10: Papeterie Atlas | D10: Fournitures | E10: 150 | F10: 30 | G10: 180 | H10: EUR | I10: Entreprise démo | J10: À vérifier | K10: Exemple sans pièce jointe | L10: Déplacement professionnel — exemple | M10: DEMO-010 | O10: À valider | P10: DEMO-010 | Q10: Camille | R10: Démonstration | S10: 1 | T10: Motif à compléter | X10: 0
B11: 46271 | C11: Bistro des Halles | D11: Restauration | E11: 90 | F11: 9 | G11: 99 | H11: EUR | I11: Entreprise démo | J11: Contrôlé | K11: Exemple sans pièce jointe | L11: Déplacement professionnel — exemple | M11: DEMO-011 | O11: À valider | P11: DEMO-011 | Q11: Camille | R11: Démonstration | S11: 1 | X11: 0
B12: 46273 | C12: Télécom Démo | D12: Télécommunications | E12: 40 | F12: 8 | G12: 48 | H12: EUR | I12: Entreprise démo | J12: Contrôlé | K12: Exemple sans pièce jointe | L12: Déplacement professionnel — exemple | M12: DEMO-012 | O12: À valider | P12: DEMO-012 | Q12: Camille | R12: Démonstration | S12: 1 | X12: 0

Sheet Octobre 2026
B2: Octobre 2026 | D2: JRM.AI / JOURNAL DES FRAIS
B4: DÉMONSTRATION · 2026 | D4: 4 dépenses fictives · TVA récupérable à valider séparément
B6: Exemple fictif · catégorie préremplie et modifiable
B8: Date | C8: Fournisseur | D8: Catégorie | E8: HT | F8: TVA relevée | G8: TTC | H8: Devise | I8: Payeur | J8: Statut | K8: Justificatif | L8: Motif / commentaire | M8: Identifiant | N8: TVA récupérable | O8: Décision TVA | P8: N° facture | Q8: Collaborateur | R8: Source | S8: Pages | T8: À compléter | U8: Validation comptable | V8: Commentaire comptable | W8: Correction manuelle | X8: Débours non soumis
B9: 46297 | C9: Rail Horizon | D9: Transport | E9: 120 | F9: 12 | G9: 132 | H9: EUR | I9: Entreprise démo | J9: Contrôlé | K9: Exemple sans pièce jointe | L9: Déplacement professionnel — exemple | M9: DEMO-013 | O9: À valider | P9: DEMO-013 | Q9: Camille | R9: Démonstration | S9: 1 | X9: 0
B10: 46299 | C10: Bistro des Halles | D10: Restauration | E10: 60 | F10: 6 | G10: 66 | H10: EUR | I10: Entreprise démo | J10: À vérifier | K10: Exemple sans pièce jointe | L10: Déplacement professionnel — exemple | M10: DEMO-014 | O10: À valider | P10: DEMO-014 | Q10: Camille | R10: Démonstration | S10: 1 | T10: Motif à compléter | X10: 0
B11: 46301 | C11: Studio Nuage | D11: Logiciels | E11: 30 | F11: 6 | G11: 36 | H11: EUR | I11: Entreprise démo | J11: Contrôlé | K11: Exemple sans pièce jointe | L11: Déplacement professionnel — exemple | M11: DEMO-015 | O11: À valider | P11: DEMO-015 | Q11: Camille | R11: Démonstration | S11: 1 | X11: 0
B12: 46303 | C12: Parking Central | D12: Stationnement | E12: 15 | F12: 3 | G12: 18 | H12: EUR | I12: Entreprise démo | J12: Contrôlé | K12: Exemple sans pièce jointe | L12: Déplacement professionnel — exemple | M12: DEMO-016 | O12: À valider | P12: DEMO-016 | Q12: Camille | R12: Démonstration | S12: 1 | X12: 0

Sheet TVA par taux
A1: Date | B1: Fournisseur | C1: Base HT | D1: Taux relevé (%) | E1: TVA facturée | F1: Devise | G1: Identifiant | H1: Source / observation | I1: Justificatif
A2: 46083 | B2: Papeterie Atlas | C2: 80 | D2: 20 | E2: 16 | F2: EUR | G2: DEMO-001 | H2: Données fictives — aucun avis fiscal
A3: 46085 | B3: Bistro des Halles | C3: 45 | D3: 10 | E3: 4.5 | F3: EUR | G3: DEMO-002 | H3: Données fictives — aucun avis fiscal
A4: 46087 | B4: Studio Nuage | C4: 30 | D4: 20 | E4: 6 | F4: EUR | G4: DEMO-003 | H4: Données fictives — aucun avis fiscal
A5: 46089 | B5: Rail Horizon | C5: 60 | D5: 10 | E5: 6 | F5: EUR | G5: DEMO-004 | H5: Données fictives — aucun avis fiscal
A6: 46236 | B6: Hôtel des Pins | C6: 180 | D6: 10 | E6: 18 | F6: EUR | G6: DEMO-005 | H6: Données fictives — aucun avis fiscal
A7: 46238 | B7: Bistro des Halles | C7: 70 | D7: 10 | E7: 7 | F7: EUR | G7: DEMO-006 | H7: Données fictives — aucun avis fiscal
A8: 46240 | B8: Station Horizon | C8: 50 | D8: 20 | E8: 10 | F8: EUR | G8: DEMO-007 | H8: Données fictives — aucun avis fiscal
A9: 46242 | B9: Studio Nuage | C9: 30 | D9: 20 | E9: 6 | F9: EUR | G9: DEMO-008 | H9: Données fictives — aucun avis fiscal
A10: 46267 | B10: Hôtel des Pins | C10: 250 | D10: 10 | E10: 25 | F10: EUR | G10: DEMO-009 | H10: Données fictives — aucun avis fiscal
A11: 46269 | B11: Papeterie Atlas | C11: 150 | D11: 20 | E11: 30 | F11: EUR | G11: DEMO-010 | H11: Données fictives — aucun avis fiscal
A12: 46271 | B12: Bistro des Halles | C12: 90 | D12: 10 | E12: 9 | F12: EUR | G12: DEMO-011 | H12: Données fictives — aucun avis fiscal
A13: 46273 | B13: Télécom Démo | C13: 40 | D13: 20 | E13: 8 | F13: EUR | G13: DEMO-012 | H13: Données fictives — aucun avis fiscal
... A17: 46303 | B17: Parking Central | C17: 15 | D17: 20 | E17: 3 | F17: EUR | G17: DEMO-016 | H17: Données fictives — aucun avis fiscal

Sheet Données accueil
A1: Catégorie | B1: Mars 2026 | C1: Août 2026 | D1: Septembre 2026 | E1: Octobre 2026 | F1: Total TTC | H1: Mois | I1: TTC | K1: Catégorie | L1: TTC | N1: TTC collecté | O1: Contrôlé | P1: À vérifier | Q1: TVA facturée | R1: Pièces à vérifier | S1: Sans TTC
A2: Fournitures | B2: =SUMIFS('Mars 2026'!$G$9:$G$508,'Mars 2026'!$D$9:$D$508,$A2,'Mars 2026'!$H$9:$H$508,"EUR",'Mars 2026'!$M$9:$M$508,"<>",'Mars 2026'!$B$9:$B$508,">="&DATE(2026,3,1),'Mars 2026'!$B$9:$B$508,"<"&DATE(2026,4,1),'Mars 2026'!$J$9:$J$508,"Contrôlé")+SUMIFS('Mars 2026'!$G$9:$G$508,'Mars 2026'!$D$9:$D$508,$A2,'Mars 2026'!$H$9:$H$508,"EUR",'Mars 2026'!$M$9:$M$508,"<>",'Mars 2026'!$B$9:$B$508,">="&DATE(2026,3,1),'Mars 2026'!$B$9:$B$508,"<"&DATE(2026,4,1),'Mars 2026'!$J$9:$J$508,"À vérifier") -> 96 | C2: =SUMIFS('Août 2026'!$G$9:$G$508,'Août 2026'!$D$9:$D$508,$A2,'Août 2026'!$H$9:$H$508,"EUR",'Août 2026'!$M$9:$M$508,"<>",'Août 2026'!$B$9:$B$508,">="&DATE(2026,8,1),'Août 2026'!$B$9:$B$508,"<"&DATE(2026,9,1),'Août 2026'!$J$9:$J$508,"Contrôlé")+SUMIFS('Août 2026'!$G$9:$G$508,'Août 2026'!$D$9:$D$508,$A2,'Août 2026'!$H$9:$H$508,"EUR",'Août 2026'!$M$9:$M$508,"<>",'Août 2026'!$B$9:$B$508,">="&DATE(2026,8,1),'Août 2026'!$B$9:$B$508,"<"&DATE(2026,9,1),'Août 2026'!$J$9:$J$508,"À vérifier") -> 0 | D2: =SUMIFS('Septembre 2026'!$G$9:$G$508,'Septembre 2026'!$D$9:$D$508,$A2,'Septembre 2026'!$H$9:$H$508,"EUR",'Septembre 2026'!$M$9:$M$508,"<>",'Septembre 2026'!$B$9:$B$508,">="&DATE(2026,9,1),'Septembre 2026'!$B$9:$B$508,"<"&DATE(2026,10,1),'Septembre 2026'!$J$9:$J$508,"Contrôlé")+SUMIFS('Septembre 2026'!$G$9:$G$508,'Septembre 2026'!$D$9:$D$508,$A2,'Septembre 2026'!$H$9:$H$508,"EUR",'Septembre 2026'!$M$9:$M$508,"<>",'Septembre 2026'!$B$9:$B$508,">="&DATE(2026,9,1),'Septembre 2026'!$B$9:$B$508,"<"&DATE(2026,10,1),'Septembre 2026'!$J$9:$J$508,"À vérifier") -> 180 | E2: =SUMIFS('Octobre 2026'!$G$9:$G$508,'Octobre 2026'!$D$9:$D$508,$A2,'Octobre 2026'!$H$9:$H$508,"EUR",'Octobre 2026'!$M$9:$M$508,"<>",'Octobre 2026'!$B$9:$B$508,">="&DATE(2026,10,1),'Octobre 2026'!$B$9:$B$508,"<"&DATE(2026,11,1),'Octobre 2026'!$J$9:$J$508,"Contrôlé")+SUMIFS('Octobre 2026'!$G$9:$G$508,'Octobre 2026'!$D$9:$D$508,$A2,'Octobre 2026'!$H$9:$H$508,"EUR",'Octobre 2026'!$M$9:$M$508,"<>",'Octobre 2026'!$B$9:$B$508,">="&DATE(2026,10,1),'Octobre 2026'!$B$9:$B$508,"<"&DATE(2026,11,1),'Octobre 2026'!$J$9:$J$508,"À vérifier") -> 0 | F2: =SUM(B2:E2) -> 276 | G2: =IF(Accueil!$C$4<>"Toutes les catégories",IF(A2=Accueil!$C$4,1,100+ROW()),IF(Accueil!$H$4="Catégorie A → Z",COUNTIF($A$2:$A$11,"<"&A2)+1,RANK(F2,$F$2:$F$11,0)+COUNTIF($F$2:F2,F2)-1)) -> 3 | H2: Mars | I2: =SUMIF($A$2:$A$11,IF(Accueil!$C$4="Toutes les catégories","*",Accueil!$C$4),B2:B11) -> 247.5 | J2: =IF(AND(ISNUMBER(F15),F15<>0),COUNTIF($F$15:F15,">0")+COUNTIF($F$15:F15,"<0"),100+ROW()) -> 1 | K2: {=IFERROR(INDEX($A$15:$A$24,MATCH(1,$J$2:$J$11,0)),"")} -> Hébergement | L2: {=IFERROR(INDEX($F$15:$F$24,MATCH(1,$J$2:$J$11,0)),0)} -> 473 | N2: =SUM(I2:I5) -> 1472.5 | O2: =SUMIFS('Mars 2026'!$G$9:$G$508,'Mars 2026'!$J$9:$J$508,"Contrôlé",'Mars 2026'!$H$9:$H$508,"EUR",'Mars 2026'!$M$9:$M$508,"<>",'Mars 2026'!$B$9:$B$508,">="&DATE(2026,3,1),'Mars 2026'!$B$9:$B$508,"<"&DATE(2026,4,1),'Mars 2026'!$D$9:$D$508,IF(Accueil!$C$4="Toutes les catégories","*",Accueil!$C$4))+SUMIFS('Août 2026'!$G$9:$G$508,'Août 2026'!$J$9:$J$508,"Contrôlé",'Août 2026'!$H$9:$H$508,"EUR",'Août 2026'!$M$9:$M$508,"<>",'Août 2026'!$B$9:$B$508,">="&DATE(2026,8,1),'Août 2026'!$B$9:$B$508,"<"&DATE(2026,9,1),'Août 2026'!$D$9:$D$508,IF(Accueil!$C$4="Toutes les catégories","*",Accueil!$C$4))+SUMIFS('Septembre 2026'!$G$9:$G$508,'Septembre 2026'!$J$9:$J$508,"Contrôlé",'Septembre 2026'!$H$9:$H$508,"EUR",'Septembre 2026'!$M$9:$M$508,"<>",'Septembre 2026'!$B$9:$B$508,">="&DATE(2026,9,1),'Septembre 2026'!$B$9:$B$508,"<"&DATE(2026,10,1),'Septembre 2026'!$D$9:$D$508,IF(Accueil!$C$4="Toutes les catégories","*",Accueil!$C$4))+SUMIFS('Octobre 2026'!$G$9:$G$508,'Octobre 2026'!$J$9:$J$508,"Contrôlé",'Octobre 2026'!$H$9:$H$508,"EUR",'Octobre 2026'!$M$9:$M$508,"<>",'Octobre 2026'!$B$9:$B$508,">="&DATE(2026,10,1),'Octobre 2026'!$B$9:$B$508,"<"&DATE(2026,11,1),'Octobre 2026'!$D$9:$D$508,IF(Accueil!$C$4="Toutes les catégories","*",Accueil!$C$4)) -> 1100 | P2: =SUMIFS('Mars 2026'!$G$9:$G$508,'Mars 2026'!$J$9:$J$508,"À vérifier",'Mars 2026'!$H$9:$H$508,"EUR",'Mars 2026'!$M$9:$M$508,"<>",'Mars 2026'!$B$9:$B$508,">="&DATE(2026,3,1),'Mars 2026'!$B$9:$B$508,"<"&DATE(2026,4,1),'Mars 2026'!$D$9:$D$508,IF(Accueil!$C$4="Toutes les catégories","*",Accueil!$C$4))+SUMIFS('Août 2026'!$G$9:$G$508,'Août 2026'!$J$9:$J$508,"À vérifier",'Août 2026'!$H$9:$H$508,"EUR",'Août 2026'!$M$9:$M$508,"<>",'Août 2026'!$B$9:$B$508,">="&DATE(2026,8,1),'Août 2026'!$B$9:$B$508,"<"&DATE(2026,9,1),'Août 2026'!$D$9:$D$508,IF(Accueil!$C$4="Toutes les catégories","*",Accueil!$C$4))+SUMIFS('Septembre 2026'!$G$9:$G$508,'Septembre 2026'!$J$9:$J$508,"À vérifier",'Septembre 2026'!$H$9:$H$508,"EUR",'Septembre 2026'!$M$9:$M$508,"<>",'Septembre 2026'!$B$9:$B$508,">="&DATE(2026,9,1),'Septembre 2026'!$B$9:$B$508,"<"&DATE(2026,10,1),'Septembre 2026'!$D$9:$D$508,IF(Accueil!$C$4="Toutes les catégories","*",Accueil!$C$4))+SUMIFS('Octobre 2026'!$G$9:$G$508,'Octobre 2026'!$J$9:$J$508,"À vérifier",'Octobre 2026'!$H$9:$H$508,"EUR",'Octobre 2026'!$M$9:$M$508,"<>",'Octobre 2026'!$B$9:$B$508,">="&DATE(2026,10,1),'Octobre 2026'!$B$9:$B$508,"<"&DATE(2026,11,1),'Octobre 2026'!$D$9:$D$508,IF(Accueil!$C$4="Toutes les catégories","*",Accueil!$C$4)) -> 372.5 | Q2: =SUMIFS('Mars 2026'!$F$9:$F$508,'Mars 2026'!$J$9:$J$508,"Contrôlé",'Mars 2026'!$H$9:$H$508,"EUR",'Mars 2026'!$M$9:$M$508,"<>",'Mars 2026'!$B$9:$B$508,">="&DATE(2026,3,1),'Mars 2026'!$B$9:$B$508,"<"&DATE(2026,4,1),'Mars 2026'!$D$9:$D$508,IF(Accueil!$C$4="Toutes les catégories","*",Accueil!$C$4))+SUMIFS('Mars 2026'!$F$9:$F$508,'Mars 2026'!$J$9:$J$508,"À vérifier",'Mars 2026'!$H$9:$H$508,"EUR",'Mars 2026'!$M$9:$M$508,"<>",'Mars 2026'!$B$9:$B$508,">="&DATE(2026,3,1),'Mars 2026'!$B$9:$B$508,"<"&DATE(2026,4,1),'Mars 2026'!$D$9:$D$508,IF(Accueil!$C$4="Toutes les catégories","*",Accueil!$C$4))+SUMIFS('Août 2026'!$F$9:$F$508,'Août 2026'!$J$9:$J$508,"Contrôlé",'Août 2026'!$H$9:$H$508,"EUR",'Août 2026'!$M$9:$M$508,"<>",'Août 2026'!$B$9:$B$508,">="&DATE(2026,8,1),'Août 2026'!$B$9:$B$508,"<"&DATE(2026,9,1),'Août 2026'!$D$9:$D$508,IF(Accueil!$C$4="Toutes les catégories","*",Accueil!$C$4))+SUMIFS('Août 2026'!$F$9:$F$508,'Août 2026'!$J$9:$J$508,"À vérifier",'Août 2026'!$H$9:$H$508,"EUR",'Août 2026'!$M$9:$M$508,"<>",'Août 2026'!$B$9:$B$508,">="&DATE(2026,8,1),'Août 2026'!$B$9:$B$508,"<"&DATE(2026,9,1),'Août 2026'!$D$9:$D$508,IF(Accueil!$C$4="Toutes les catégories","*",Accueil!$C$4))+SUMIFS('Septembre 2026'!$F$9:$F$508,'Septembre 2026'!$J$9:$J$508,"Contrôlé",'Septembre 2026'!$H$9:$H$508,"EUR",'Septembre 2026'!$M$9:$M$508,"<>",'Septembre 2026'!$B$9:$B$508,">="&DATE(2026,9,1),'Septembre 2026'!$B$9:$B$508,"<"&DATE(2026,10,1),'Septembre 2026'!$D$9:$D$508,IF(Accueil!$C$4="Toutes les catégories","*",Accueil!$C$4))+SUMIFS('Septembre 2026'!$F$9:$F$508,'Septembre 2026'!$J$9:$J$508,"À vérifier",'Septembre 2026'!$H$9:$H$508,"EUR",'Septembre 2026'!$M$9:$M$508,"<>",'Septembre 2026'!$B$9:$B$508,">="&DATE(2026,9,1),'Septembre 2026'!$B$9:$B$508,"<"&DATE(2026,10,1),'Septembre 2026'!$D$9:$D$508,IF(Accueil!$C$4="Toutes les catégories","*",Accueil!$C$4))+SUMIFS('Octobre 2026'!$F$9:$F$508,'Octobre 2026'!$J$9:$J$508,"Contrôlé",'Octobre 2026'!$H$9:$H$508,"EUR",'Octobre 2026'!$M$9:$M$508,"<>",'Octobre 2026'!$B$9:$B$508,">="&DATE(2026,10,1),'Octobre 2026'!$B$9:$B$508,"<"&DATE(2026,11,1),'Octobre 2026'!$D$9:$D$508,IF(Accueil!$C$4="Toutes les catégories","*",Accueil!$C$4))+SUMIFS('Octobre 2026'!$F$9:$F$508,'Octobre 2026'!$J$9:$J$508,"À vérifier",'Octobre 2026'!$H$9:$H$508,"EUR",'Octobre 2026'!$M$9:$M$508,"<>",'Octobre 2026'!$B$9:$B$508,">="&DATE(2026,10,1),'Octobre 2026'!$B$9:$B$508,"<"&DATE(2026,11,1),'Octobre 2026'!$D$9:$D$508,IF(Accueil!$C$4="Toutes les catégories","*",Accueil!$C$4)) -> 172.5 | R2: =COUNTIFS('Mars 2026'!$J$9:$J$508,"À vérifier",'Mars 2026'!$H$9:$H$508,"EUR",'Mars 2026'!$M$9:$M$508,"<>",'Mars 2026'!$B$9:$B$508,">="&DATE(2026,3,1),'Mars 2026'!$B$9:$B$508,"<"&DATE(2026,4,1),'Mars 2026'!$D$9:$D$508,IF(Accueil!$C$4="Toutes les catégories","*",Accueil!$C$4))+COUNTIFS('Août 2026'!$J$9:$J$508,"À vérifier",'Août 2026'!$H$9:$H$508,"EUR",'Août 2026'!$M$9:$M$508,"<>",'Août 2026'!$B$9:$B$508,">="&DATE(2026,8,1),'Août 2026'!$B$9:$B$508,"<"&DATE(2026,9,1),'Août 2026'!$D$9:$D$508,IF(Accueil!$C$4="Toutes les catégories","*",Accueil!$C$4))+COUNTIFS('Septembre 2026'!$J$9:$J$508,"À vérifier",'Septembre 2026'!$H$9:$H$508,"EUR",'Septembre 2026'!$M$9:$M$508,"<>",'Septembre 2026'!$B$9:$B$508,">="&DATE(2026,9,1),'Septembre 2026'!$B$9:$B$508,"<"&DATE(2026,10,1),'Septembre 2026'!$D$9:$D$508,IF(Accueil!$C$4="Toutes les catégories","*",Accueil!$C$4))+COUNTIFS('Octobre 2026'!$J$9:$J$508,"À vérifier",'Octobre 2026'!$H$9:$H$508,"EUR",'Octobre 2026'!$M$9:$M$508,"<>",'Octobre 2026'!$B$9:$B$508,">="&DATE(2026,10,1),'Octobre 2026'!$B$9:$B$508,"<"&DATE(2026,11,1),'Octobre 2026'!$D$9:$D$508,IF(Accueil!$C$4="Toutes les catégories","*",Accueil!$C$4)) -> 4 | S2: =COUNTIFS('Août 2026'!$J$9:$J$508,"Contrôlé",'Août 2026'!$H$9:$H$508,"EUR",'Août 2026'!$M$9:$M$508,"<>",'Août 2026'!$B$9:$B$508,">="&DATE(2026,8,1),'Août 2026'!$B$9:$B$508,"<"&DATE(2026,9,1),'Août 2026'!$D$9:$D$508,IF(Accueil!$C$4="Toutes les catégories","*",Accueil!$C$4),'Août 2026'!$G$9:$G$508,"")+COUNTIFS('Août 2026'!$J$9:$J$508,"À vérifier",'Août 2026'!$H$9:$H$508,"EUR",'Août 2026'!$M$9:$M$508,"<>",'Août 2026'!$B$9:$B$508,">="&DATE(2026,8,1),'Août 2026'!$B$9:$B$508,"<"&DATE(2026,9,1),'Août 2026'!$D$9:$D$508,IF(Accueil!$C$4="Toutes les catégories","*",Accueil!$C$4),'Août 2026'!$G$9:$G$508,"")+COUNTIFS('Septembre 2026'!$J$9:$J$508,"Contrôlé",'Septembre 2026'!$H$9:$H$508,"EUR",'Septembre 2026'!$M$9:$M$508,"<>",'Septembre 2026'!$B$9:$B$508,">="&DATE(2026,9,1),'Septembre 2026'!$B$9:$B$508,"<"&DATE(2026,10,1),'Septembre 2026'!$D$9:$D$508,IF(Accueil!$C$4="Toutes les catégories","*",Accueil!$C$4),'Septembre 2026'!$G$9:$G$508,"")+COUNTIFS('Septembre 2026'!$J$9:$J$508,"À vérifier",'Septembre 2026'!$H$9:$H$508,"EUR",'Septembre 2026'!$M$9:$M$508,"<>",'Septembre 2026'!$B$9:$B$508,">="&DATE(2026,9,1),'Septembre 2026'!$B$9:$B$508,"<"&DATE(2026,10,1),'Septembre 2026'!$D$9:$D$508,IF(Accueil!$C$4="Toutes les catégories","*",Accueil!$C$4),'Septembre 2026'!$G$9:$G$508,"")+COUNTIFS('Octobre 2026'!$J$9:$J$508,"Contrôlé",'Octobre 2026'!$H$9:$H$508,"EUR",'Octobre 2026'!$M$9:$M$508,"<>",'Octobre 2026'!$B$9:$B$508,">="&DATE(2026,10,1),'Octobre 2026'!$B$9:$B$508,"<"&DATE(2026,11,1),'Octobre 2026'!$D$9:$D$508,IF(Accueil!$C$4="Toutes les catégories","*",Accueil!$C$4),'Octobre 2026'!$G$9:$G$508,"")+COUNTIFS('Octobre 2026'!$J$9:$J$508,"À vérifier",'Octobre 2026'!$H$9:$H$508,"EUR",'Octobre 2026'!$M$9:$M$508,"<>",'Octobre 2026'!$B$9:$B$508,">="&DATE(2026,10,1),'Octobre 2026'!$B$9:$B$508,"<"&DATE(2026,11,1),'Octobre 2026'!$D$9:$D$508,IF(Accueil!$C$4="Toutes les catégories","*",Accueil!$C$4),'Octobre 2026'!$G$9:$G$508,"") -> 0
A3: Restauration | B3: =SUMIFS('Mars 2026'!$G$9:$G$508,'Mars 2026'!$D$9:$D$508,$A3,'Mars 2026'!$H$9:$H$508,"EUR",'Mars 2026'!$M$9:$M$508,"<>",'Mars 2026'!$B$9:$B$508,">="&DATE(2026,3,1),'Mars 2026'!$B$9:$B$508,"<"&DATE(2026,4,1),'Mars 2026'!$J$9:$J$508,"Contrôlé")+SUMIFS('Mars 2026'!$G$9:$G$508,'Mars 2026'!$D$9:$D$508,$A3,'Mars 2026'!$H$9:$H$508,"EUR",'Mars 2026'!$M$9:$M$508,"<>",'Mars 2026'!$B$9:$B$508,">="&DATE(2026,3,1),'Mars 2026'!$B$9:$B$508,"<"&DATE(2026,4,1),'Mars 2026'!$J$9:$J$508,"À vérifier") -> 49.5 | C3: =SUMIFS('Août 2026'!$G$9:$G$508,'Août 2026'!$D$9:$D$508,$A3,'Août 2026'!$H$9:$H$508,"EUR",'Août 2026'!$M$9:$M$508,"<>",'Août 2026'!$B$9:$B$508,">="&DATE(2026,8,1),'Août 2026'!$B$9:$B$508,"<"&DATE(2026,9,1),'Août 2026'!$J$9:$J$508,"Contrôlé")+SUMIFS('Août 2026'!$G$9:$G$508,'Août 2026'!$D$9:$D$508,$A3,'Août 2026'!$H$9:$H$508,"EUR",'Août 2026'!$M$9:$M$508,"<>",'Août 2026'!$B$9:$B$508,">="&DATE(2026,8,1),'Août 2026'!$B$9:$B$508,"<"&DATE(2026,9,1),'Août 2026'!$J$9:$J$508,"À vérifier") -> 77 | D3: =SUMIFS('Septembre 2026'!$G$9:$G$508,'Septembre 2026'!$D$9:$D$508,$A3,'Septembre 2026'!$H$9:$H$508,"EUR",'Septembre 2026'!$M$9:$M$508,"<>",'Septembre 2026'!$B$9:$B$508,">="&DATE(2026,9,1),'Septembre 2026'!$B$9:$B$508,"<"&DATE(2026,10,1),'Septembre 2026'!$J$9:$J$508,"Contrôlé")+SUMIFS('Septembre 2026'!$G$9:$G$508,'Septembre 2026'!$D$9:$D$508,$A3,'Septembre 2026'!$H$9:$H$508,"EUR",'Septembre 2026'!$M$9:$M$508,"<>",'Septembre 2026'!$B$9:$B$508,">="&DATE(2026,9,1),'Septembre 2026'!$B$9:$B$508,"<"&DATE(2026,10,1),'Septembre 2026'!$J$9:$J$508,"À vérifier") -> 99 | E3: =SUMIFS('Octobre 2026'!$G$9:$G$508,'Octobre 2026'!$D$9:$D$508,$A3,'Octobre 2026'!$H$9:$H$508,"EUR",'Octobre 2026'!$M$9:$M$508,"<>",'Octobre 2026'!$B$9:$B$508,">="&DATE(2026,10,1),'Octobre 2026'!$B$9:$B$508,"<"&DATE(2026,11,1),'Octobre 2026'!$J$9:$J$508,"Contrôlé")+SUMIFS('Octobre 2026'!$G$9:$G$508,'Octobre 2026'!$D$9:$D$508,$A3,'Octobre 2026'!$H$9:$H$508,"EUR",'Octobre 2026'!$M$9:$M$508,"<>",'Octobre 2026'!$B$9:$B$508,">="&DATE(2026,10,1),'Octobre 2026'!$B$9:$B$508,"<"&DATE(2026,11,1),'Octobre 2026'!$J$9:$J$508,"À vérifier") -> 66 | F3: =SUM(B3:E3) -> 291.5 | G3: =IF(Accueil!$C$4<>"Toutes les catégories",IF(A3=Accueil!$C$4,1,100+ROW()),IF(Accueil!$H$4="Catégorie A → Z",COUNTIF($A$2:$A$11,"<"&A3)+1,RANK(F3,$F$2:$F$11,0)+COUNTIF($F$2:F3,F3)-1)) -> 2 | H3: Août | I3: =SUMIF($A$2:$A$11,IF(Accueil!$C$4="Toutes les catégories","*",Accueil!$C$4),C2:C11) -> 371 | J3: =IF(AND(ISNUMBER(F16),F16<>0),COUNTIF($F$15:F16,">0")+COUNTIF($F$15:F16,"<0"),100+ROW()) -> 2 | K3: {=IFERROR(INDEX($A$15:$A$24,MATCH(2,$J$2:$J$11,0)),"")} -> Restauration | L3: {=IFERROR(INDEX($F$15:$F$24,MATCH(2,$J$2:$J$11,0)),0)} -> 291.5
A4: Hébergement | B4: =SUMIFS('Mars 2026'!$G$9:$G$508,'Mars 2026'!$D$9:$D$508,$A4,'Mars 2026'!$H$9:$H$508,"EUR",'Mars 2026'!$M$9:$M$508,"<>",'Mars 2026'!$B$9:$B$508,">="&DATE(2026,3,1),'Mars 2026'!$B$9:$B$508,"<"&DATE(2026,4,1),'Mars 2026'!$J$9:$J$508,"Contrôlé")+SUMIFS('Mars 2026'!$G$9:$G$508,'Mars 2026'!$D$9:$D$508,$A4,'Mars 2026'!$H$9:$H$508,"EUR",'Mars 2026'!$M$9:$M$508,"<>",'Mars 2026'!$B$9:$B$508,">="&DATE(2026,3,1),'Mars 2026'!$B$9:$B$508,"<"&DATE(2026,4,1),'Mars 2026'!$J$9:$J$508,"À vérifier") -> 0 | C4: =SUMIFS('Août 2026'!$G$9:$G$508,'Août 2026'!$D$9:$D$508,$A4,'Août 2026'!$H$9:$H$508,"EUR",'Août 2026'!$M$9:$M$508,"<>",'Août 2026'!$B$9:$B$508,">="&DATE(2026,8,1),'Août 2026'!$B$9:$B$508,"<"&DATE(2026,9,1),'Août 2026'!$J$9:$J$508,"Contrôlé")+SUMIFS('Août 2026'!$G$9:$G$508,'Août 2026'!$D$9:$D$508,$A4,'Août 2026'!$H$9:$H$508,"EUR",'Août 2026'!$M$9:$M$508,"<>",'Août 2026'!$B$9:$B$508,">="&DATE(2026,8,1),'Août 2026'!$B$9:$B$508,"<"&DATE(2026,9,1),'Août 2026'!$J$9:$J$508,"À vérifier") -> 198 | D4: =SUMIFS('Septembre 2026'!$G$9:$G$508,'Septembre 2026'!$D$9:$D$508,$A4,'Septembre 2026'!$H$9:$H$508,"EUR",'Septembre 2026'!$M$9:$M$508,"<>",'Septembre 2026'!$B$9:$B$508,">="&DATE(2026,9,1),'Septembre 2026'!$B$9:$B$508,"<"&DATE(2026,10,1),'Septembre 2026'!$J$9:$J$508,"Contrôlé")+SUMIFS('Septembre 2026'!$G$9:$G$508,'Septembre 2026'!$D$9:$D$508,$A4,'Septembre 2026'!$H$9:$H$508,"EUR",'Septembre 2026'!$M$9:$M$508,"<>",'Septembre 2026'!$B$9:$B$508,">="&DATE(2026,9,1),'Septembre 2026'!$B$9:$B$508,"<"&DATE(2026,10,1),'Septembre 2026'!$J$9:$J$508,"À vérifier") -> 275 | E4: =SUMIFS('Octobre 2026'!$G$9:$G$508,'Octobre 2026'!$D$9:$D$508,$A4,'Octobre 2026'!$H$9:$H$508,"EUR",'Octobre 2026'!$M$9:$M$508,"<>",'Octobre 2026'!$B$9:$B$508,">="&DATE(2026,10,1),'Octobre 2026'!$B$9:$B$508,"<"&DATE(2026,11,1),'Octobre 2026'!$J$9:$J$508,"Contrôlé")+SUMIFS('Octobre 2026'!$G$9:$G$508,'Octobre 2026'!$D$9:$D$508,$A4,'Octobre 2026'!$H$9:$H$508,"EUR",'Octobre 2026'!$M$9:$M$508,"<>",'Octobre 2026'!$B$9:$B$508,">="&DATE(2026,10,1),'Octobre 2026'!$B$9:$B$508,"<"&DATE(2026,11,1),'Octobre 2026'!$J$9:$J$508,"À vérifier") -> 0 | F4: =SUM(B4:E4) -> 473 | G4: =IF(Accueil!$C$4<>"Toutes les catégories",IF(A4=Accueil!$C$4,1,100+ROW()),IF(Accueil!$H$4="Catégorie A → Z",COUNTIF($A$2:$A$11,"<"&A4)+1,RANK(F4,$F$2:$F$11,0)+COUNTIF($F$2:F4,F4)-1)) -> 1 | H4: Septembre | I4: =SUMIF($A$2:$A$11,IF(Accueil!$C$4="Toutes les catégories","*",Accueil!$C$4),D2:D11) -> 602 | J4: =IF(AND(ISNUMBER(F17),F17<>0),COUNTIF($F$15:F17,">0")+COUNTIF($F$15:F17,"<0"),100+ROW()) -> 3 | K4: {=IFERROR(INDEX($A$15:$A$24,MATCH(3,$J$2:$J$11,0)),"")} -> Fournitures | L4: {=IFERROR(INDEX($F$15:$F$24,MATCH(3,$J$2:$J$11,0)),0)} -> 276
A5: Transport | B5: =SUMIFS('Mars 2026'!$G$9:$G$508,'Mars 2026'!$D$9:$D$508,$A5,'Mars 2026'!$H$9:$H$508,"EUR",'Mars 2026'!$M$9:$M$508,"<>",'Mars 2026'!$B$9:$B$508,">="&DATE(2026,3,1),'Mars 2026'!$B$9:$B$508,"<"&DATE(2026,4,1),'Mars 2026'!$J$9:$J$508,"Contrôlé")+SUMIFS('Mars 2026'!$G$9:$G$508,'Mars 2026'!$D$9:$D$508,$A5,'Mars 2026'!$H$9:$H$508,"EUR",'Mars 2026'!$M$9:$M$508,"<>",'Mars 2026'!$B$9:$B$508,">="&DATE(2026,3,1),'Mars 2026'!$B$9:$B$508,"<"&DATE(2026,4,1),'Mars 2026'!$J$9:$J$508,"À vérifier") -> 66 | C5: =SUMIFS('Août 2026'!$G$9:$G$508,'Août 2026'!$D$9:$D$508,$A5,'Août 2026'!$H$9:$H$508,"EUR",'Août 2026'!$M$9:$M$508,"<>",'Août 2026'!$B$9:$B$508,">="&DATE(2026,8,1),'Août 2026'!$B$9:$B$508,"<"&DATE(2026,9,1),'Août 2026'!$J$9:$J$508,"Contrôlé")+SUMIFS('Août 2026'!$G$9:$G$508,'Août 2026'!$D$9:$D$508,$A5,'Août 2026'!$H$9:$H$508,"EUR",'Août 2026'!$M$9:$M$508,"<>",'Août 2026'!$B$9:$B$508,">="&DATE(2026,8,1),'Août 2026'!$B$9:$B$508,"<"&DATE(2026,9,1),'Août 2026'!$J$9:$J$508,"À vérifier") -> 0 | D5: =SUMIFS('Septembre 2026'!$G$9:$G$508,'Septembre 2026'!$D$9:$D$508,$A5,'Septembre 2026'!$H$9:$H$508,"EUR",'Septembre 2026'!$M$9:$M$508,"<>",'Septembre 2026'!$B$9:$B$508,">="&DATE(2026,9,1),'Septembre 2026'!$B$9:$B$508,"<"&DATE(2026,10,1),'Septembre 2026'!$J$9:$J$508,"Contrôlé")+SUMIFS('Septembre 2026'!$G$9:$G$508,'Septembre 2026'!$D$9:$D$508,$A5,'Septembre 2026'!$H$9:$H$508,"EUR",'Septembre 2026'!$M$9:$M$508,"<>",'Septembre 2026'!$B$9:$B$508,">="&DATE(2026,9,1),'Septembre 2026'!$B$9:$B$508,"<"&DATE(2026,10,1),'Septembre 2026'!$J$9:$J$508,"À vérifier") -> 0 | E5: =SUMIFS('Octobre 2026'!$G$9:$G$508,'Octobre 2026'!$D$9:$D$508,$A5,'Octobre 2026'!$H$9:$H$508,"EUR",'Octobre 2026'!$M$9:$M$508,"<>",'Octobre 2026'!$B$9:$B$508,">="&DATE(2026,10,1),'Octobre 2026'!$B$9:$B$508,"<"&DATE(2026,11,1),'Octobre 2026'!$J$9:$J$508,"Contrôlé")+SUMIFS('Octobre 2026'!$G$9:$G$508,'Octobre 2026'!$D$9:$D$508,$A5,'Octobre 2026'!$H$9:$H$508,"EUR",'Octobre 2026'!$M$9:$M$508,"<>",'Octobre 2026'!$B$9:$B$508,">="&DATE(2026,10,1),'Octobre 2026'!$B$9:$B$508,"<"&DATE(2026,11,1),'Octobre 2026'!$J$9:$J$508,"À vérifier") -> 132 | F5: =SUM(B5:E5) -> 198 | G5: =IF(Accueil!$C$4<>"Toutes les catégories",IF(A5=Accueil!$C$4,1,100+ROW()),IF(Accueil!$H$4="Catégorie A → Z",COUNTIF($A$2:$A$11,"<"&A5)+1,RANK(F5,$F$2:$F$11,0)+COUNTIF($F$2:F5,F5)-1)) -> 4 | H5: Octobre | I5: =SUMIF($A$2:$A$11,IF(Accueil!$C$4="Toutes les catégories","*",Accueil!$C$4),E2:E11) -> 252 | J5: =IF(AND(ISNUMBER(F18),F18<>0),COUNTIF($F$15:F18,">0")+COUNTIF($F$15:F18,"<0"),100+ROW()) -> 4 | K5: {=IFERROR(INDEX($A$15:$A$24,MATCH(4,$J$2:$J$11,0)),"")} -> Transport | L5: {=IFERROR(INDEX($F$15:$F$24,MATCH(4,$J$2:$J$11,0)),0)} -> 198
A6: Carburant | B6: =SUMIFS('Mars 2026'!$G$9:$G$508,'Mars 2026'!$D$9:$D$508,$A6,'Mars 2026'!$H$9:$H$508,"EUR",'Mars 2026'!$M$9:$M$508,"<>",'Mars 2026'!$B$9:$B$508,">="&DATE(2026,3,1),'Mars 2026'!$B$9:$B$508,"<"&DATE(2026,4,1),'Mars 2026'!$J$9:$J$508,"Contrôlé")+SUMIFS('Mars 2026'!$G$9:$G$508,'Mars 2026'!$D$9:$D$508,$A6,'Mars 2026'!$H$9:$H$508,"EUR",'Mars 2026'!$M$9:$M$508,"<>",'Mars 2026'!$B$9:$B$508,">="&DATE(2026,3,1),'Mars 2026'!$B$9:$B$508,"<"&DATE(2026,4,1),'Mars 2026'!$J$9:$J$508,"À vérifier") -> 0 | C6: =SUMIFS('Août 2026'!$G$9:$G$508,'Août 2026'!$D$9:$D$508,$A6,'Août 2026'!$H$9:$H$508,"EUR",'Août 2026'!$M$9:$M$508,"<>",'Août 2026'!$B$9:$B$508,">="&DATE(2026,8,1),'Août 2026'!$B$9:$B$508,"<"&DATE(2026,9,1),'Août 2026'!$J$9:$J$508,"Contrôlé")+SUMIFS('Août 2026'!$G$9:$G$508,'Août 2026'!$D$9:$D$508,$A6,'Août 2026'!$H$9:$H$508,"EUR",'Août 2026'!$M$9:$M$508,"<>",'Août 2026'!$B$9:$B$508,">="&DATE(2026,8,1),'Août 2026'!$B$9:$B$508,"<"&DATE(2026,9,1),'Août 2026'!$J$9:$J$508,"À vérifier") -> 60 | D6: =SUMIFS('Septembre 2026'!$G$9:$G$508,'Septembre 2026'!$D$9:$D$508,$A6,'Septembre 2026'!$H$9:$H$508,"EUR",'Septembre 2026'!$M$9:$M$508,"<>",'Septembre 2026'!$B$9:$B$508,">="&DATE(2026,9,1),'Septembre 2026'!$B$9:$B$508,"<"&DATE(2026,10,1),'Septembre 2026'!$J$9:$J$508,"Contrôlé")+SUMIFS('Septembre 2026'!$G$9:$G$508,'Septembre 2026'!$D$9:$D$508,$A6,'Septembre 2026'!$H$9:$H$508,"EUR",'Septembre 2026'!$M$9:$M$508,"<>",'Septembre 2026'!$B$9:$B$508,">="&DATE(2026,9,1),'Septembre 2026'!$B$9:$B$508,"<"&DATE(2026,10,1),'Septembre 2026'!$J$9:$J$508,"À vérifier") -> 0 | E6: =SUMIFS('Octobre 2026'!$G$9:$G$508,'Octobre 2026'!$D$9:$D$508,$A6,'Octobre 2026'!$H$9:$H$508,"EUR",'Octobre 2026'!$M$9:$M$508,"<>",'Octobre 2026'!$B$9:$B$508,">="&DATE(2026,10,1),'Octobre 2026'!$B$9:$B$508,"<"&DATE(2026,11,1),'Octobre 2026'!$J$9:$J$508,"Contrôlé")+SUMIFS('Octobre 2026'!$G$9:$G$508,'Octobre 2026'!$D$9:$D$508,$A6,'Octobre 2026'!$H$9:$H$508,"EUR",'Octobre 2026'!$M$9:$M$508,"<>",'Octobre 2026'!$B$9:$B$508,">="&DATE(2026,10,1),'Octobre 2026'!$B$9:$B$508,"<"&DATE(2026,11,1),'Octobre 2026'!$J$9:$J$508,"À vérifier") -> 0 | F6: =SUM(B6:E6) -> 60 | G6: =IF(Accueil!$C$4<>"Toutes les catégories",IF(A6=Accueil!$C$4,1,100+ROW()),IF(Accueil!$H$4="Catégorie A → Z",COUNTIF($A$2:$A$11,"<"&A6)+1,RANK(F6,$F$2:$F$11,0)+COUNTIF($F$2:F6,F6)-1)) -> 6 | J6: =IF(AND(ISNUMBER(F19),F19<>0),COUNTIF($F$15:F19,">0")+COUNTIF($F$15:F19,"<0"),100+ROW()) -> 5 | K6: {=IFERROR(INDEX($A$15:$A$24,MATCH(5,$J$2:$J$11,0)),"")} -> Logiciels | L6: {=IFERROR(INDEX($F$15:$F$24,MATCH(5,$J$2:$J$11,0)),0)} -> 108
A7: Péage | B7: =SUMIFS('Mars 2026'!$G$9:$G$508,'Mars 2026'!$D$9:$D$508,$A7,'Mars 2026'!$H$9:$H$508,"EUR",'Mars 2026'!$M$9:$M$508,"<>",'Mars 2026'!$B$9:$B$508,">="&DATE(2026,3,1),'Mars 2026'!$B$9:$B$508,"<"&DATE(2026,4,1),'Mars 2026'!$J$9:$J$508,"Contrôlé")+SUMIFS('Mars 2026'!$G$9:$G$508,'Mars 2026'!$D$9:$D$508,$A7,'Mars 2026'!$H$9:$H$508,"EUR",'Mars 2026'!$M$9:$M$508,"<>",'Mars 2026'!$B$9:$B$508,">="&DATE(2026,3,1),'Mars 2026'!$B$9:$B$508,"<"&DATE(2026,4,1),'Mars 2026'!$J$9:$J$508,"À vérifier") -> 0 | C7: =SUMIFS('Août 2026'!$G$9:$G$508,'Août 2026'!$D$9:$D$508,$A7,'Août 2026'!$H$9:$H$508,"EUR",'Août 2026'!$M$9:$M$508,"<>",'Août 2026'!$B$9:$B$508,">="&DATE(2026,8,1),'Août 2026'!$B$9:$B$508,"<"&DATE(2026,9,1),'Août 2026'!$J$9:$J$508,"Contrôlé")+SUMIFS('Août 2026'!$G$9:$G$508,'Août 2026'!$D$9:$D$508,$A7,'Août 2026'!$H$9:$H$508,"EUR",'Août 2026'!$M$9:$M$508,"<>",'Août 2026'!$B$9:$B$508,">="&DATE(2026,8,1),'Août 2026'!$B$9:$B$508,"<"&DATE(2026,9,1),'Août 2026'!$J$9:$J$508,"À vérifier") -> 0 | D7: =SUMIFS('Septembre 2026'!$G$9:$G$508,'Septembre 2026'!$D$9:$D$508,$A7,'Septembre 2026'!$H$9:$H$508,"EUR",'Septembre 2026'!$M$9:$M$508,"<>",'Septembre 2026'!$B$9:$B$508,">="&DATE(2026,9,1),'Septembre 2026'!$B$9:$B$508,"<"&DATE(2026,10,1),'Septembre 2026'!$J$9:$J$508,"Contrôlé")+SUMIFS('Septembre 2026'!$G$9:$G$508,'Septembre 2026'!$D$9:$D$508,$A7,'Septembre 2026'!$H$9:$H$508,"EUR",'Septembre 2026'!$M$9:$M$508,"<>",'Septembre 2026'!$B$9:$B$508,">="&DATE(2026,9,1),'Septembre 2026'!$B$9:$B$508,"<"&DATE(2026,10,1),'Septembre 2026'!$J$9:$J$508,"À vérifier") -> 0 | E7: =SUMIFS('Octobre 2026'!$G$9:$G$508,'Octobre 2026'!$D$9:$D$508,$A7,'Octobre 2026'!$H$9:$H$508,"EUR",'Octobre 2026'!$M$9:$M$508,"<>",'Octobre 2026'!$B$9:$B$508,">="&DATE(2026,10,1),'Octobre 2026'!$B$9:$B$508,"<"&DATE(2026,11,1),'Octobre 2026'!$J$9:$J$508,"Contrôlé")+SUMIFS('Octobre 2026'!$G$9:$G$508,'Octobre 2026'!$D$9:$D$508,$A7,'Octobre 2026'!$H$9:$H$508,"EUR",'Octobre 2026'!$M$9:$M$508,"<>",'Octobre 2026'!$B$9:$B$508,">="&DATE(2026,10,1),'Octobre 2026'!$B$9:$B$508,"<"&DATE(2026,11,1),'Octobre 2026'!$J$9:$J$508,"À vérifier") -> 0 | F7: =SUM(B7:E7) -> 0 | G7: =IF(Accueil!$C$4<>"Toutes les catégories",IF(A7=Accueil!$C$4,1,100+ROW()),IF(Accueil!$H$4="Catégorie A → Z",COUNTIF($A$2:$A$11,"<"&A7)+1,RANK(F7,$F$2:$F$11,0)+COUNTIF($F$2:F7,F7)-1)) -> 9 | J7: =IF(AND(ISNUMBER(F20),F20<>0),COUNTIF($F$15:F20,">0")+COUNTIF($F$15:F20,"<0"),100+ROW()) -> 6 | K7: {=IFERROR(INDEX($A$15:$A$24,MATCH(6,$J$2:$J$11,0)),"")} -> Carburant | L7: {=IFERROR(INDEX($F$15:$F$24,MATCH(6,$J$2:$J$11,0)),0)} -> 60
A8: Stationnement | B8: =SUMIFS('Mars 2026'!$G$9:$G$508,'Mars 2026'!$D$9:$D$508,$A8,'Mars 2026'!$H$9:$H$508,"EUR",'Mars 2026'!$M$9:$M$508,"<>",'Mars 2026'!$B$9:$B$508,">="&DATE(2026,3,1),'Mars 2026'!$B$9:$B$508,"<"&DATE(2026,4,1),'Mars 2026'!$J$9:$J$508,"Contrôlé")+SUMIFS('Mars 2026'!$G$9:$G$508,'Mars 2026'!$D$9:$D$508,$A8,'Mars 2026'!$H$9:$H$508,"EUR",'Mars 2026'!$M$9:$M$508,"<>",'Mars 2026'!$B$9:$B$508,">="&DATE(2026,3,1),'Mars 2026'!$B$9:$B$508,"<"&DATE(2026,4,1),'Mars 2026'!$J$9:$J$508,"À vérifier") -> 0 | C8: =SUMIFS('Août 2026'!$G$9:$G$508,'Août 2026'!$D$9:$D$508,$A8,'Août 2026'!$H$9:$H$508,"EUR",'Août 2026'!$M$9:$M$508,"<>",'Août 2026'!$B$9:$B$508,">="&DATE(2026,8,1),'Août 2026'!$B$9:$B$508,"<"&DATE(2026,9,1),'Août 2026'!$J$9:$J$508,"Contrôlé")+SUMIFS('Août 2026'!$G$9:$G$508,'Août 2026'!$D$9:$D$508,$A8,'Août 2026'!$H$9:$H$508,"EUR",'Août 2026'!$M$9:$M$508,"<>",'Août 2026'!$B$9:$B$508,">="&DATE(2026,8,1),'Août 2026'!$B$9:$B$508,"<"&DATE(2026,9,1),'Août 2026'!$J$9:$J$508,"À vérifier") -> 0 | D8: =SUMIFS('Septembre 2026'!$G$9:$G$508,'Septembre 2026'!$D$9:$D$508,$A8,'Septembre 2026'!$H$9:$H$508,"EUR",'Septembre 2026'!$M$9:$M$508,"<>",'Septembre 2026'!$B$9:$B$508,">="&DATE(2026,9,1),'Septembre 2026'!$B$9:$B$508,"<"&DATE(2026,10,1),'Septembre 2026'!$J$9:$J$508,"Contrôlé")+SUMIFS('Septembre 2026'!$G$9:$G$508,'Septembre 2026'!$D$9:$D$508,$A8,'Septembre 2026'!$H$9:$H$508,"EUR",'Septembre 2026'!$M$9:$M$508,"<>",'Septembre 2026'!$B$9:$B$508,">="&DATE(2026,9,1),'Septembre 2026'!$B$9:$B$508,"<"&DATE(2026,10,1),'Septembre 2026'!$J$9:$J$508,"À vérifier") -> 0 | E8: =SUMIFS('Octobre 2026'!$G$9:$G$508,'Octobre 2026'!$D$9:$D$508,$A8,'Octobre 2026'!$H$9:$H$508,"EUR",'Octobre 2026'!$M$9:$M$508,"<>",'Octobre 2026'!$B$9:$B$508,">="&DATE(2026,10,1),'Octobre 2026'!$B$9:$B$508,"<"&DATE(2026,11,1),'Octobre 2026'!$J$9:$J$508,"Contrôlé")+SUMIFS('Octobre 2026'!$G$9:$G$508,'Octobre 2026'!$D$9:$D$508,$A8,'Octobre 2026'!$H$9:$H$508,"EUR",'Octobre 2026'!$M$9:$M$508,"<>",'Octobre 2026'!$B$9:$B$508,">="&DATE(2026,10,1),'Octobre 2026'!$B$9:$B$508,"<"&DATE(2026,11,1),'Octobre 2026'!$J$9:$J$508,"À vérifier") -> 18 | F8: =SUM(B8:E8) -> 18 | G8: =IF(Accueil!$C$4<>"Toutes les catégories",IF(A8=Accueil!$C$4,1,100+ROW()),IF(Accueil!$H$4="Catégorie A → Z",COUNTIF($A$2:$A$11,"<"&A8)+1,RANK(F8,$F$2:$F$11,0)+COUNTIF($F$2:F8,F8)-1)) -> 8 | J8: =IF(AND(ISNUMBER(F21),F21<>0),COUNTIF($F$15:F21,">0")+COUNTIF($F$15:F21,"<0"),100+ROW()) -> 7 | K8: {=IFERROR(INDEX($A$15:$A$24,MATCH(7,$J$2:$J$11,0)),"")} -> Télécommunications | L8: {=IFERROR(INDEX($F$15:$F$24,MATCH(7,$J$2:$J$11,0)),0)} -> 48
A9: Logiciels | B9: =SUMIFS('Mars 2026'!$G$9:$G$508,'Mars 2026'!$D$9:$D$508,$A9,'Mars 2026'!$H$9:$H$508,"EUR",'Mars 2026'!$M$9:$M$508,"<>",'Mars 2026'!$B$9:$B$508,">="&DATE(2026,3,1),'Mars 2026'!$B$9:$B$508,"<"&DATE(2026,4,1),'Mars 2026'!$J$9:$J$508,"Contrôlé")+SUMIFS('Mars 2026'!$G$9:$G$508,'Mars 2026'!$D$9:$D$508,$A9,'Mars 2026'!$H$9:$H$508,"EUR",'Mars 2026'!$M$9:$M$508,"<>",'Mars 2026'!$B$9:$B$508,">="&DATE(2026,3,1),'Mars 2026'!$B$9:$B$508,"<"&DATE(2026,4,1),'Mars 2026'!$J$9:$J$508,"À vérifier") -> 36 | C9: =SUMIFS('Août 2026'!$G$9:$G$508,'Août 2026'!$D$9:$D$508,$A9,'Août 2026'!$H$9:$H$508,"EUR",'Août 2026'!$M$9:$M$508,"<>",'Août 2026'!$B$9:$B$508,">="&DATE(2026,8,1),'Août 2026'!$B$9:$B$508,"<"&DATE(2026,9,1),'Août 2026'!$J$9:$J$508,"Contrôlé")+SUMIFS('Août 2026'!$G$9:$G$508,'Août 2026'!$D$9:$D$508,$A9,'Août 2026'!$H$9:$H$508,"EUR",'Août 2026'!$M$9:$M$508,"<>",'Août 2026'!$B$9:$B$508,">="&DATE(2026,8,1),'Août 2026'!$B$9:$B$508,"<"&DATE(2026,9,1),'Août 2026'!$J$9:$J$508,"À vérifier") -> 36 | D9: =SUMIFS('Septembre 2026'!$G$9:$G$508,'Septembre 2026'!$D$9:$D$508,$A9,'Septembre 2026'!$H$9:$H$508,"EUR",'Septembre 2026'!$M$9:$M$508,"<>",'Septembre 2026'!$B$9:$B$508,">="&DATE(2026,9,1),'Septembre 2026'!$B$9:$B$508,"<"&DATE(2026,10,1),'Septembre 2026'!$J$9:$J$508,"Contrôlé")+SUMIFS('Septembre 2026'!$G$9:$G$508,'Septembre 2026'!$D$9:$D$508,$A9,'Septembre 2026'!$H$9:$H$508,"EUR",'Septembre 2026'!$M$9:$M$508,"<>",'Septembre 2026'!$B$9:$B$508,">="&DATE(2026,9,1),'Septembre 2026'!$B$9:$B$508,"<"&DATE(2026,10,1),'Septembre 2026'!$J$9:$J$508,"À vérifier") -> 0 | E9: =SUMIFS('Octobre 2026'!$G$9:$G$508,'Octobre 2026'!$D$9:$D$508,$A9,'Octobre 2026'!$H$9:$H$508,"EUR",'Octobre 2026'!$M$9:$M$508,"<>",'Octobre 2026'!$B$9:$B$508,">="&DATE(2026,10,1),'Octobre 2026'!$B$9:$B$508,"<"&DATE(2026,11,1),'Octobre 2026'!$J$9:$J$508,"Contrôlé")+SUMIFS('Octobre 2026'!$G$9:$G$508,'Octobre 2026'!$D$9:$D$508,$A9,'Octobre 2026'!$H$9:$H$508,"EUR",'Octobre 2026'!$M$9:$M$508,"<>",'Octobre 2026'!$B$9:$B$508,">="&DATE(2026,10,1),'Octobre 2026'!$B$9:$B$508,"<"&DATE(2026,11,1),'Octobre 2026'!$J$9:$J$508,"À vérifier") -> 36 | F9: =SUM(B9:E9) -> 108 | G9: =IF(Accueil!$C$4<>"Toutes les catégories",IF(A9=Accueil!$C$4,1,100+ROW()),IF(Accueil!$H$4="Catégorie A → Z",COUNTIF($A$2:$A$11,"<"&A9)+1,RANK(F9,$F$2:$F$11,0)+COUNTIF($F$2:F9,F9)-1)) -> 5 | J9: =IF(AND(ISNUMBER(F22),F22<>0),COUNTIF($F$15:F22,">0")+COUNTIF($F$15:F22,"<0"),100+ROW()) -> 8 | K9: {=IFERROR(INDEX($A$15:$A$24,MATCH(8,$J$2:$J$11,0)),"")} -> Stationnement | L9: {=IFERROR(INDEX($F$15:$F$24,MATCH(8,$J$2:$J$11,0)),0)} -> 18
A10: Télécommunications | B10: =SUMIFS('Mars 2026'!$G$9:$G$508,'Mars 2026'!$D$9:$D$508,$A10,'Mars 2026'!$H$9:$H$508,"EUR",'Mars 2026'!$M$9:$M$508,"<>",'Mars 2026'!$B$9:$B$508,">="&DATE(2026,3,1),'Mars 2026'!$B$9:$B$508,"<"&DATE(2026,4,1),'Mars 2026'!$J$9:$J$508,"Contrôlé")+SUMIFS('Mars 2026'!$G$9:$G$508,'Mars 2026'!$D$9:$D$508,$A10,'Mars 2026'!$H$9:$H$508,"EUR",'Mars 2026'!$M$9:$M$508,"<>",'Mars 2026'!$B$9:$B$508,">="&DATE(2026,3,1),'Mars 2026'!$B$9:$B$508,"<"&DATE(2026,4,1),'Mars 2026'!$J$9:$J$508,"À vérifier") -> 0 | C10: =SUMIFS('Août 2026'!$G$9:$G$508,'Août 2026'!$D$9:$D$508,$A10,'Août 2026'!$H$9:$H$508,"EUR",'Août 2026'!$M$9:$M$508,"<>",'Août 2026'!$B$9:$B$508,">="&DATE(2026,8,1),'Août 2026'!$B$9:$B$508,"<"&DATE(2026,9,1),'Août 2026'!$J$9:$J$508,"Contrôlé")+SUMIFS('Août 2026'!$G$9:$G$508,'Août 2026'!$D$9:$D$508,$A10,'Août 2026'!$H$9:$H$508,"EUR",'Août 2026'!$M$9:$M$508,"<>",'Août 2026'!$B$9:$B$508,">="&DATE(2026,8,1),'Août 2026'!$B$9:$B$508,"<"&DATE(2026,9,1),'Août 2026'!$J$9:$J$508,"À vérifier") -> 0 | D10: =SUMIFS('Septembre 2026'!$G$9:$G$508,'Septembre 2026'!$D$9:$D$508,$A10,'Septembre 2026'!$H$9:$H$508,"EUR",'Septembre 2026'!$M$9:$M$508,"<>",'Septembre 2026'!$B$9:$B$508,">="&DATE(2026,9,1),'Septembre 2026'!$B$9:$B$508,"<"&DATE(2026,10,1),'Septembre 2026'!$J$9:$J$508,"Contrôlé")+SUMIFS('Septembre 2026'!$G$9:$G$508,'Septembre 2026'!$D$9:$D$508,$A10,'Septembre 2026'!$H$9:$H$508,"EUR",'Septembre 2026'!$M$9:$M$508,"<>",'Septembre 2026'!$B$9:$B$508,">="&DATE(2026,9,1),'Septembre 2026'!$B$9:$B$508,"<"&DATE(2026,10,1),'Septembre 2026'!$J$9:$J$508,"À vérifier") -> 48 | E10: =SUMIFS('Octobre 2026'!$G$9:$G$508,'Octobre 2026'!$D$9:$D$508,$A10,'Octobre 2026'!$H$9:$H$508,"EUR",'Octobre 2026'!$M$9:$M$508,"<>",'Octobre 2026'!$B$9:$B$508,">="&DATE(2026,10,1),'Octobre 2026'!$B$9:$B$508,"<"&DATE(2026,11,1),'Octobre 2026'!$J$9:$J$508,"Contrôlé")+SUMIFS('Octobre 2026'!$G$9:$G$508,'Octobre 2026'!$D$9:$D$508,$A10,'Octobre 2026'!$H$9:$H$508,"EUR",'Octobre 2026'!$M$9:$M$508,"<>",'Octobre 2026'!$B$9:$B$508,">="&DATE(2026,10,1),'Octobre 2026'!$B$9:$B$508,"<"&DATE(2026,11,1),'Octobre 2026'!$J$9:$J$508,"À vérifier") -> 0 | F10: =SUM(B10:E10) -> 48 | G10: =IF(Accueil!$C$4<>"Toutes les catégories",IF(A10=Accueil!$C$4,1,100+ROW()),IF(Accueil!$H$4="Catégorie A → Z",COUNTIF($A$2:$A$11,"<"&A10)+1,RANK(F10,$F$2:$F$11,0)+COUNTIF($F$2:F10,F10)-1)) -> 7 | J10: =IF(AND(ISNUMBER(F23),F23<>0),COUNTIF($F$15:F23,">0")+COUNTIF($F$15:F23,"<0"),100+ROW()) -> 110 | K10: {=IFERROR(INDEX($A$15:$A$24,MATCH(9,$J$2:$J$11,0)),"")} | L10: {=IFERROR(INDEX($F$15:$F$24,MATCH(9,$J$2:$J$11,0)),0)} -> 0
A11: Autres | B11: =SUMIFS('Mars 2026'!$G$9:$G$508,'Mars 2026'!$D$9:$D$508,$A11,'Mars 2026'!$H$9:$H$508,"EUR",'Mars 2026'!$M$9:$M$508,"<>",'Mars 2026'!$B$9:$B$508,">="&DATE(2026,3,1),'Mars 2026'!$B$9:$B$508,"<"&DATE(2026,4,1),'Mars 2026'!$J$9:$J$508,"Contrôlé")+SUMIFS('Mars 2026'!$G$9:$G$508,'Mars 2026'!$D$9:$D$508,$A11,'Mars 2026'!$H$9:$H$508,"EUR",'Mars 2026'!$M$9:$M$508,"<>",'Mars 2026'!$B$9:$B$508,">="&DATE(2026,3,1),'Mars 2026'!$B$9:$B$508,"<"&DATE(2026,4,1),'Mars 2026'!$J$9:$J$508,"À vérifier") -> 0 | C11: =SUMIFS('Août 2026'!$G$9:$G$508,'Août 2026'!$D$9:$D$508,$A11,'Août 2026'!$H$9:$H$508,"EUR",'Août 2026'!$M$9:$M$508,"<>",'Août 2026'!$B$9:$B$508,">="&DATE(2026,8,1),'Août 2026'!$B$9:$B$508,"<"&DATE(2026,9,1),'Août 2026'!$J$9:$J$508,"Contrôlé")+SUMIFS('Août 2026'!$G$9:$G$508,'Août 2026'!$D$9:$D$508,$A11,'Août 2026'!$H$9:$H$508,"EUR",'Août 2026'!$M$9:$M$508,"<>",'Août 2026'!$B$9:$B$508,">="&DATE(2026,8,1),'Août 2026'!$B$9:$B$508,"<"&DATE(2026,9,1),'Août 2026'!$J$9:$J$508,"À vérifier") -> 0 | D11: =SUMIFS('Septembre 2026'!$G$9:$G$508,'Septembre 2026'!$D$9:$D$508,$A11,'Septembre 2026'!$H$9:$H$508,"EUR",'Septembre 2026'!$M$9:$M$508,"<>",'Septembre 2026'!$B$9:$B$508,">="&DATE(2026,9,1),'Septembre 2026'!$B$9:$B$508,"<"&DATE(2026,10,1),'Septembre 2026'!$J$9:$J$508,"Contrôlé")+SUMIFS('Septembre 2026'!$G$9:$G$508,'Septembre 2026'!$D$9:$D$508,$A11,'Septembre 2026'!$H$9:$H$508,"EUR",'Septembre 2026'!$M$9:$M$508,"<>",'Septembre 2026'!$B$9:$B$508,">="&DATE(2026,9,1),'Septembre 2026'!$B$9:$B$508,"<"&DATE(2026,10,1),'Septembre 2026'!$J$9:$J$508,"À vérifier") -> 0 | E11: =SUMIFS('Octobre 2026'!$G$9:$G$508,'Octobre 2026'!$D$9:$D$508,$A11,'Octobre 2026'!$H$9:$H$508,"EUR",'Octobre 2026'!$M$9:$M$508,"<>",'Octobre 2026'!$B$9:$B$508,">="&DATE(2026,10,1),'Octobre 2026'!$B$9:$B$508,"<"&DATE(2026,11,1),'Octobre 2026'!$J$9:$J$508,"Contrôlé")+SUMIFS('Octobre 2026'!$G$9:$G$508,'Octobre 2026'!$D$9:$D$508,$A11,'Octobre 2026'!$H$9:$H$508,"EUR",'Octobre 2026'!$M$9:$M$508,"<>",'Octobre 2026'!$B$9:$B$508,">="&DATE(2026,10,1),'Octobre 2026'!$B$9:$B$508,"<"&DATE(2026,11,1),'Octobre 2026'!$J$9:$J$508,"À vérifier") -> 0 | F11: =SUM(B11:E11) -> 0 | G11: =IF(Accueil!$C$4<>"Toutes les catégories",IF(A11=Accueil!$C$4,1,100+ROW()),IF(Accueil!$H$4="Catégorie A → Z",COUNTIF($A$2:$A$11,"<"&A11)+1,RANK(F11,$F$2:$F$11,0)+COUNTIF($F$2:F11,F11)-1)) -> 10 | J11: =IF(AND(ISNUMBER(F24),F24<>0),COUNTIF($F$15:F24,">0")+COUNTIF($F$15:F24,"<0"),100+ROW()) -> 111 | K11: {=IFERROR(INDEX($A$15:$A$24,MATCH(10,$J$2:$J$11,0)),"")} | L11: {=IFERROR(INDEX($F$15:$F$24,MATCH(10,$J$2:$J$11,0)),0)} -> 0
A14: Catégorie | B14: Mars 2026 | C14: Août 2026 | D14: Septembre 2026 | E14: Octobre 2026 | F14: Total TTC
A15: =IFERROR(INDEX(A$2:A$11,MATCH(1,$G$2:$G$11,0)),"") -> Hébergement | B15: =IFERROR(INDEX(B$2:B$11,MATCH(1,$G$2:$G$11,0)),"") -> 0 | C15: =IFERROR(INDEX(C$2:C$11,MATCH(1,$G$2:$G$11,0)),"") -> 198 | D15: =IFERROR(INDEX(D$2:D$11,MATCH(1,$G$2:$G$11,0)),"") -> 275 | E15: =IFERROR(INDEX(E$2:E$11,MATCH(1,$G$2:$G$11,0)),"") -> 0 | F15: =IFERROR(INDEX(F$2:F$11,MATCH(1,$G$2:$G$11,0)),"") -> 473
A16: =IFERROR(INDEX(A$2:A$11,MATCH(2,$G$2:$G$11,0)),"") -> Restauration | B16: =IFERROR(INDEX(B$2:B$11,MATCH(2,$G$2:$G$11,0)),"") -> 49.5 | C16: =IFERROR(INDEX(C$2:C$11,MATCH(2,$G$2:$G$11,0)),"") -> 77 | D16: =IFERROR(INDEX(D$2:D$11,MATCH(2,$G$2:$G$11,0)),"") -> 99 | E16: =IFERROR(INDEX(E$2:E$11,MATCH(2,$G$2:$G$11,0)),"") -> 66 | F16: =IFERROR(INDEX(F$2:F$11,MATCH(2,$G$2:$G$11,0)),"") -> 291.5
A17: =IFERROR(INDEX(A$2:A$11,MATCH(3,$G$2:$G$11,0)),"") -> Fournitures | B17: =IFERROR(INDEX(B$2:B$11,MATCH(3,$G$2:$G$11,0)),"") -> 96 | C17: =IFERROR(INDEX(C$2:C$11,MATCH(3,$G$2:$G$11,0)),"") -> 0 | D17: =IFERROR(INDEX(D$2:D$11,MATCH(3,$G$2:$G$11,0)),"") -> 180 | E17: =IFERROR(INDEX(E$2:E$11,MATCH(3,$G$2:$G$11,0)),"") -> 0 | F17: =IFERROR(INDEX(F$2:F$11,MATCH(3,$G$2:$G$11,0)),"") -> 276
A18: =IFERROR(INDEX(A$2:A$11,MATCH(4,$G$2:$G$11,0)),"") -> Transport | B18: =IFERROR(INDEX(B$2:B$11,MATCH(4,$G$2:$G$11,0)),"") -> 66 | C18: =IFERROR(INDEX(C$2:C$11,MATCH(4,$G$2:$G$11,0)),"") -> 0 | D18: =IFERROR(INDEX(D$2:D$11,MATCH(4,$G$2:$G$11,0)),"") -> 0 | E18: =IFERROR(INDEX(E$2:E$11,MATCH(4,$G$2:$G$11,0)),"") -> 132 | F18: =IFERROR(INDEX(F$2:F$11,MATCH(4,$G$2:$G$11,0)),"") -> 198
A19: =IFERROR(INDEX(A$2:A$11,MATCH(5,$G$2:$G$11,0)),"") -> Logiciels | B19: =IFERROR(INDEX(B$2:B$11,MATCH(5,$G$2:$G$11,0)),"") -> 36 | C19: =IFERROR(INDEX(C$2:C$11,MATCH(5,$G$2:$G$11,0)),"") -> 36 | D19: =IFERROR(INDEX(D$2:D$11,MATCH(5,$G$2:$G$11,0)),"") -> 0 | E19: =IFERROR(INDEX(E$2:E$11,MATCH(5,$G$2:$G$11,0)),"") -> 36 | F19: =IFERROR(INDEX(F$2:F$11,MATCH(5,$G$2:$G$11,0)),"") -> 108
A20: =IFERROR(INDEX(A$2:A$11,MATCH(6,$G$2:$G$11,0)),"") -> Carburant | B20: =IFERROR(INDEX(B$2:B$11,MATCH(6,$G$2:$G$11,0)),"") -> 0 | C20: =IFERROR(INDEX(C$2:C$11,MATCH(6,$G$2:$G$11,0)),"") -> 60 | D20: =IFERROR(INDEX(D$2:D$11,MATCH(6,$G$2:$G$11,0)),"") -> 0 | E20: =IFERROR(INDEX(E$2:E$11,MATCH(6,$G$2:$G$11,0)),"") -> 0 | F20: =IFERROR(INDEX(F$2:F$11,MATCH(6,$G$2:$G$11,0)),"") -> 60
A21: =IFERROR(INDEX(A$2:A$11,MATCH(7,$G$2:$G$11,0)),"") -> Télécommunications | B21: =IFERROR(INDEX(B$2:B$11,MATCH(7,$G$2:$G$11,0)),"") -> 0 | C21: =IFERROR(INDEX(C$2:C$11,MATCH(7,$G$2:$G$11,0)),"") -> 0 | D21: =IFERROR(INDEX(D$2:D$11,MATCH(7,$G$2:$G$11,0)),"") -> 48 | E21: =IFERROR(INDEX(E$2:E$11,MATCH(7,$G$2:$G$11,0)),"") -> 0 | F21: =IFERROR(INDEX(F$2:F$11,MATCH(7,$G$2:$G$11,0)),"") -> 48
A22: =IFERROR(INDEX(A$2:A$11,MATCH(8,$G$2:$G$11,0)),"") -> Stationnement | B22: =IFERROR(INDEX(B$2:B$11,MATCH(8,$G$2:$G$11,0)),"") -> 0 | C22: =IFERROR(INDEX(C$2:C$11,MATCH(8,$G$2:$G$11,0)),"") -> 0 | D22: =IFERROR(INDEX(D$2:D$11,MATCH(8,$G$2:$G$11,0)),"") -> 0 | E22: =IFERROR(INDEX(E$2:E$11,MATCH(8,$G$2:$G$11,0)),"") -> 18 | F22: =IFERROR(INDEX(F$2:F$11,MATCH(8,$G$2:$G$11,0)),"") -> 18
A23: =IFERROR(INDEX(A$2:A$11,MATCH(9,$G$2:$G$11,0)),"") -> Péage | B23: =IFERROR(INDEX(B$2:B$11,MATCH(9,$G$2:$G$11,0)),"") -> 0 | C23: =IFERROR(INDEX(C$2:C$11,MATCH(9,$G$2:$G$11,0)),"") -> 0 | D23: =IFERROR(INDEX(D$2:D$11,MATCH(9,$G$2:$G$11,0)),"") -> 0 | E23: =IFERROR(INDEX(E$2:E$11,MATCH(9,$G$2:$G$11,0)),"") -> 0 | F23: =IFERROR(INDEX(F$2:F$11,MATCH(9,$G$2:$G$11,0)),"") -> 0
A24: =IFERROR(INDEX(A$2:A$11,MATCH(10,$G$2:$G$11,0)),"") -> Autres | B24: =IFERROR(INDEX(B$2:B$11,MATCH(10,$G$2:$G$11,0)),"") -> 0 | C24: =IFERROR(INDEX(C$2:C$11,MATCH(10,$G$2:$G$11,0)),"") -> 0 | D24: =IFERROR(INDEX(D$2:D$11,MATCH(10,$G$2:$G$11,0)),"") -> 0 | E24: =IFERROR(INDEX(E$2:E$11,MATCH(10,$G$2:$G$11,0)),"") -> 0 | F24: =IFERROR(INDEX(F$2:F$11,MATCH(10,$G$2:$G$11,0)),"") -> 0
